BEGIN:VCALENDAR
VERSION:2.0
PRODID:-//Triumph Wedge Owners Association - ECPv6.15.17//NONSGML v1.0//EN
CALSCALE:GREGORIAN
METHOD:PUBLISH
X-ORIGINAL-URL:https://amind-numbing-sitename.triumphwedgeowners.org
X-WR-CALDESC:Events for Triumph Wedge Owners Association
REFRESH-INTERVAL;VALUE=DURATION:PT1H
X-Robots-Tag:noindex
X-PUBLISHED-TTL:PT1H
BEGIN:VTIMEZONE
TZID:America/Chicago
BEGIN:DAYLIGHT
TZOFFSETFROM:-0600
TZOFFSETTO:-0500
TZNAME:CDT
DTSTART:20210314T080000
END:DAYLIGHT
BEGIN:STANDARD
TZOFFSETFROM:-0500
TZOFFSETTO:-0600
TZNAME:CST
DTSTART:20211107T070000
END:STANDARD
BEGIN:DAYLIGHT
TZOFFSETFROM:-0600
TZOFFSETTO:-0500
TZNAME:CDT
DTSTART:20220313T080000
END:DAYLIGHT
BEGIN:STANDARD
TZOFFSETFROM:-0500
TZOFFSETTO:-0600
TZNAME:CST
DTSTART:20221106T070000
END:STANDARD
BEGIN:DAYLIGHT
TZOFFSETFROM:-0600
TZOFFSETTO:-0500
TZNAME:CDT
DTSTART:20230312T080000
END:DAYLIGHT
BEGIN:STANDARD
TZOFFSETFROM:-0500
TZOFFSETTO:-0600
TZNAME:CST
DTSTART:20231105T070000
END:STANDARD
END:VTIMEZONE
BEGIN:VEVENT
DTSTART;VALUE=DATE:20220507
DTEND;VALUE=DATE:20220508
DTSTAMP:20260424T223108
CREATED:20220422T143711Z
LAST-MODIFIED:20221211T231652Z
UID:3421-1651881600-1651967999@amind-numbing-sitename.triumphwedgeowners.org
SUMMARY:Lewes British Motor Car Show
DESCRIPTION:
URL:https://amind-numbing-sitename.triumphwedgeowners.org/event/lewes-british-motor-car-show/
LOCATION:Lewes\, DE\, United States
END:VEVENT
BEGIN:VEVENT
DTSTART;VALUE=DATE:20220507
DTEND;VALUE=DATE:20220508
DTSTAMP:20260424T223108
CREATED:20220420T171701Z
LAST-MODIFIED:20221211T231719Z
UID:3243-1651881600-1651967999@amind-numbing-sitename.triumphwedgeowners.org
SUMMARY:Britfest 2022
DESCRIPTION:
URL:https://amind-numbing-sitename.triumphwedgeowners.org/event/britfest-2022/
LOCATION:Succasunna\, NJ\, United States
END:VEVENT
BEGIN:VEVENT
DTSTART;VALUE=DATE:20220501
DTEND;VALUE=DATE:20220502
DTSTAMP:20260424T223108
CREATED:20220422T142719Z
LAST-MODIFIED:20221211T231719Z
UID:3416-1651363200-1651449599@amind-numbing-sitename.triumphwedgeowners.org
SUMMARY:Get the Dust-Off Rallye
DESCRIPTION:
URL:https://amind-numbing-sitename.triumphwedgeowners.org/event/get-the-dust-off-rallye/
LOCATION:Hydes\, MD\, United States
END:VEVENT
BEGIN:VEVENT
DTSTART;VALUE=DATE:20220501
DTEND;VALUE=DATE:20220502
DTSTAMP:20260424T223108
CREATED:20220420T171525Z
LAST-MODIFIED:20221211T231719Z
UID:3240-1651363200-1651449599@amind-numbing-sitename.triumphwedgeowners.org
SUMMARY:All British Swap Meet
DESCRIPTION:
URL:https://amind-numbing-sitename.triumphwedgeowners.org/event/all-british-swap-meet/
LOCATION:North Kingstown\, RI\, United States
END:VEVENT
BEGIN:VEVENT
DTSTART;VALUE=DATE:20220501
DTEND;VALUE=DATE:20220502
DTSTAMP:20260424T223108
CREATED:20220420T171248Z
LAST-MODIFIED:20221211T231719Z
UID:3237-1651363200-1651449599@amind-numbing-sitename.triumphwedgeowners.org
SUMMARY:All British & European Car Day
DESCRIPTION:
URL:https://amind-numbing-sitename.triumphwedgeowners.org/event/all-british-european-car-day/
LOCATION:Dallas\, TX\, United States
END:VEVENT
BEGIN:VEVENT
DTSTART;VALUE=DATE:20220424
DTEND;VALUE=DATE:20220425
DTSTAMP:20260424T223108
CREATED:20220419T234949Z
LAST-MODIFIED:20221211T231719Z
UID:3231-1650758400-1650844799@amind-numbing-sitename.triumphwedgeowners.org
SUMMARY:Britain on the Green
DESCRIPTION:
URL:https://amind-numbing-sitename.triumphwedgeowners.org/event/britain-on-the-green/
LOCATION:Lorton\, VA\, United States
END:VEVENT
BEGIN:VEVENT
DTSTART;TZID=America/Chicago:20220422T080000
DTEND;TZID=America/Chicago:20220422T170000
DTSTAMP:20260424T223108
CREATED:20220422T144557Z
LAST-MODIFIED:20221211T231719Z
UID:3426-1650614400-1650646800@amind-numbing-sitename.triumphwedgeowners.org
SUMMARY:Rendez-vous British Quebec
DESCRIPTION:
URL:https://amind-numbing-sitename.triumphwedgeowners.org/event/rendez-vous-british-quebec/
LOCATION:Québec\, QC\, Canada
END:VEVENT
BEGIN:VEVENT
DTSTART;VALUE=DATE:20220422
DTEND;VALUE=DATE:20220425
DTSTAMP:20260424T223108
CREATED:20220419T232346Z
LAST-MODIFIED:20221211T231719Z
UID:3207-1650585600-1650844799@amind-numbing-sitename.triumphwedgeowners.org
SUMMARY:The Gathering
DESCRIPTION:
URL:https://amind-numbing-sitename.triumphwedgeowners.org/event/the-gathering/
LOCATION:Dobson\, NC\, United States
END:VEVENT
BEGIN:VEVENT
DTSTART;VALUE=DATE:20220422
DTEND;VALUE=DATE:20220424
DTSTAMP:20260424T223108
CREATED:20220419T234818Z
LAST-MODIFIED:20221211T231719Z
UID:3228-1650585600-1650758399@amind-numbing-sitename.triumphwedgeowners.org
SUMMARY:Brits on the Bay
DESCRIPTION:
URL:https://amind-numbing-sitename.triumphwedgeowners.org/event/brits-on-the-bay/
LOCATION:Pensacola\, FL\, United States
END:VEVENT
BEGIN:VEVENT
DTSTART;VALUE=DATE:20220417
DTEND;VALUE=DATE:20220418
DTSTAMP:20260424T223108
CREATED:20220419T234528Z
LAST-MODIFIED:20221211T231719Z
UID:3224-1650153600-1650239999@amind-numbing-sitename.triumphwedgeowners.org
SUMMARY:Ancaster British Car Show and Flea Market
DESCRIPTION:
URL:https://amind-numbing-sitename.triumphwedgeowners.org/event/ancaster-british-car-show-and-flea-market/
LOCATION:Jerseyville\, ON\, Canada
END:VEVENT
BEGIN:VEVENT
DTSTART;VALUE=DATE:20220416
DTEND;VALUE=DATE:20220417
DTSTAMP:20260424T223108
CREATED:20220419T234256Z
LAST-MODIFIED:20221211T231719Z
UID:3221-1650067200-1650153599@amind-numbing-sitename.triumphwedgeowners.org
SUMMARY:Wheels Across The Pond
DESCRIPTION:
URL:https://amind-numbing-sitename.triumphwedgeowners.org/event/wheels-across-the-pond/
LOCATION:Juniper\, FL\, United States
END:VEVENT
BEGIN:VEVENT
DTSTART;VALUE=DATE:20220404
DTEND;VALUE=DATE:20220405
DTSTAMP:20260424T223108
CREATED:20220419T234105Z
LAST-MODIFIED:20221211T231719Z
UID:3218-1649030400-1649116799@amind-numbing-sitename.triumphwedgeowners.org
SUMMARY:Williamsburg British and European Car Show
DESCRIPTION:
URL:https://amind-numbing-sitename.triumphwedgeowners.org/event/williamsburg-british-and-european-car-show/
LOCATION:Williamsburg\, VA\, United States
END:VEVENT
BEGIN:VEVENT
DTSTART;VALUE=DATE:20220402
DTEND;VALUE=DATE:20220403
DTSTAMP:20260424T223108
CREATED:20220419T233540Z
LAST-MODIFIED:20221211T231719Z
UID:3215-1648857600-1648943999@amind-numbing-sitename.triumphwedgeowners.org
SUMMARY:37th Annual All British Car Show
DESCRIPTION:
URL:https://amind-numbing-sitename.triumphwedgeowners.org/event/37th-annual-all-british-car-show/
LOCATION:Sanford\, FL\, United States
END:VEVENT
BEGIN:VEVENT
DTSTART;VALUE=DATE:20220402
DTEND;VALUE=DATE:20220403
DTSTAMP:20260424T223108
CREATED:20220419T233315Z
LAST-MODIFIED:20221211T231719Z
UID:3212-1648857600-1648943999@amind-numbing-sitename.triumphwedgeowners.org
SUMMARY:Carolina British Classic XIV
DESCRIPTION:
URL:https://amind-numbing-sitename.triumphwedgeowners.org/event/carolina-british-classic-xiv/
LOCATION:Cayce\, SC\, United States
END:VEVENT
END:VCALENDAR