BEGIN:VCALENDAR
VERSION:2.0
PRODID:-//Triumph Wedge Owners Association - ECPv6.15.17//NONSGML v1.0//EN
CALSCALE:GREGORIAN
METHOD:PUBLISH
X-ORIGINAL-URL:https://amind-numbing-sitename.triumphwedgeowners.org
X-WR-CALDESC:Events for Triumph Wedge Owners Association
REFRESH-INTERVAL;VALUE=DURATION:PT1H
X-Robots-Tag:noindex
X-PUBLISHED-TTL:PT1H
BEGIN:VTIMEZONE
TZID:America/Chicago
BEGIN:DAYLIGHT
TZOFFSETFROM:-0600
TZOFFSETTO:-0500
TZNAME:CDT
DTSTART:20210314T080000
END:DAYLIGHT
BEGIN:STANDARD
TZOFFSETFROM:-0500
TZOFFSETTO:-0600
TZNAME:CST
DTSTART:20211107T070000
END:STANDARD
BEGIN:DAYLIGHT
TZOFFSETFROM:-0600
TZOFFSETTO:-0500
TZNAME:CDT
DTSTART:20220313T080000
END:DAYLIGHT
BEGIN:STANDARD
TZOFFSETFROM:-0500
TZOFFSETTO:-0600
TZNAME:CST
DTSTART:20221106T070000
END:STANDARD
BEGIN:DAYLIGHT
TZOFFSETFROM:-0600
TZOFFSETTO:-0500
TZNAME:CDT
DTSTART:20230312T080000
END:DAYLIGHT
BEGIN:STANDARD
TZOFFSETFROM:-0500
TZOFFSETTO:-0600
TZNAME:CST
DTSTART:20231105T070000
END:STANDARD
END:VTIMEZONE
BEGIN:VEVENT
DTSTART;VALUE=DATE:20221001
DTEND;VALUE=DATE:20221003
DTSTAMP:20260424T171948
CREATED:20220420T191147Z
LAST-MODIFIED:20221211T231622Z
UID:3381-1664582400-1664755199@amind-numbing-sitename.triumphwedgeowners.org
SUMMARY:DC Area British Reliability Run
DESCRIPTION:
URL:https://amind-numbing-sitename.triumphwedgeowners.org/event/dc-area-british-reliability-run/
LOCATION:Start: Middleburg\, VA\, United States
END:VEVENT
BEGIN:VEVENT
DTSTART;VALUE=DATE:20220918
DTEND;VALUE=DATE:20220924
DTSTAMP:20260424T171948
CREATED:20220420T190957Z
LAST-MODIFIED:20221211T231622Z
UID:3378-1663459200-1663977599@amind-numbing-sitename.triumphwedgeowners.org
SUMMARY:Put-in-Bay Vintage Races
DESCRIPTION:
URL:https://amind-numbing-sitename.triumphwedgeowners.org/event/put-in-bay-vintage-races/
LOCATION:Put-in-Bay\, OH\, United States
END:VEVENT
BEGIN:VEVENT
DTSTART;VALUE=DATE:20220915
DTEND;VALUE=DATE:20220919
DTSTAMP:20260424T171948
CREATED:20220420T190811Z
LAST-MODIFIED:20221211T231622Z
UID:3374-1663200000-1663545599@amind-numbing-sitename.triumphwedgeowners.org
SUMMARY:Southeast British Car Festival
DESCRIPTION:
URL:https://amind-numbing-sitename.triumphwedgeowners.org/event/southeast-british-car-festival/
LOCATION:Dillard\, GA\, United States
END:VEVENT
BEGIN:VEVENT
DTSTART;VALUE=DATE:20220913
DTEND;VALUE=DATE:20220914
DTSTAMP:20260424T171948
CREATED:20220422T151418Z
LAST-MODIFIED:20221211T231622Z
UID:3446-1663027200-1663113599@amind-numbing-sitename.triumphwedgeowners.org
SUMMARY:British Motor Museum Gatherings
DESCRIPTION:
URL:https://amind-numbing-sitename.triumphwedgeowners.org/event/british-motor-museum-gatherings-5/
LOCATION:Gaydon\, Warwickshire\, United Kingdom
END:VEVENT
BEGIN:VEVENT
DTSTART;VALUE=DATE:20220911
DTEND;VALUE=DATE:20220912
DTSTAMP:20260424T171948
CREATED:20220420T190643Z
LAST-MODIFIED:20221211T231622Z
UID:3370-1662854400-1662940799@amind-numbing-sitename.triumphwedgeowners.org
SUMMARY:All British Day
DESCRIPTION:
URL:https://amind-numbing-sitename.triumphwedgeowners.org/event/all-british-day/
LOCATION:North Parramatta\, NSW\, Australia
END:VEVENT
BEGIN:VEVENT
DTSTART;VALUE=DATE:20220911
DTEND;VALUE=DATE:20220912
DTSTAMP:20260424T171948
CREATED:20220420T190520Z
LAST-MODIFIED:20221211T231622Z
UID:3366-1662854400-1662940799@amind-numbing-sitename.triumphwedgeowners.org
SUMMARY:Aubrey Rose Foundation British Car Day
DESCRIPTION:
URL:https://amind-numbing-sitename.triumphwedgeowners.org/event/aubrey-rose-foundation-british-car-day/
LOCATION:Fairfield\, OH\, United States
END:VEVENT
BEGIN:VEVENT
DTSTART;VALUE=DATE:20220911
DTEND;VALUE=DATE:20220912
DTSTAMP:20260424T171948
CREATED:20220420T190249Z
LAST-MODIFIED:20221211T231622Z
UID:3361-1662854400-1662940799@amind-numbing-sitename.triumphwedgeowners.org
SUMMARY:35th British Car Festival
DESCRIPTION:
URL:https://amind-numbing-sitename.triumphwedgeowners.org/event/35th-british-car-festival/
LOCATION:Palatine\, IL\, United States
END:VEVENT
BEGIN:VEVENT
DTSTART;VALUE=DATE:20220909
DTEND;VALUE=DATE:20220912
DTSTAMP:20260424T171948
CREATED:20220420T190111Z
LAST-MODIFIED:20221211T231622Z
UID:3357-1662681600-1662940799@amind-numbing-sitename.triumphwedgeowners.org
SUMMARY:All British Field Meet
DESCRIPTION:
URL:https://amind-numbing-sitename.triumphwedgeowners.org/event/all-british-field-meet/
LOCATION:Portland\, OR\, United States
END:VEVENT
BEGIN:VEVENT
DTSTART;VALUE=DATE:20220909
DTEND;VALUE=DATE:20220912
DTSTAMP:20260424T171948
CREATED:20220420T185928Z
LAST-MODIFIED:20221211T231622Z
UID:3355-1662681600-1662940799@amind-numbing-sitename.triumphwedgeowners.org
SUMMARY:British Invasion
DESCRIPTION:
URL:https://amind-numbing-sitename.triumphwedgeowners.org/event/british-invasion/
LOCATION:Stowe\, VT\, United States
END:VEVENT
BEGIN:VEVENT
DTSTART;VALUE=DATE:20220908
DTEND;VALUE=DATE:20220911
DTSTAMP:20260424T171948
CREATED:20220420T185717Z
LAST-MODIFIED:20221211T231622Z
UID:3351-1662595200-1662854399@amind-numbing-sitename.triumphwedgeowners.org
SUMMARY:Triumphest 2022
DESCRIPTION:
URL:https://amind-numbing-sitename.triumphwedgeowners.org/event/triumphest-2022/
LOCATION:San Diego\, CA\, United States
END:VEVENT
BEGIN:VEVENT
DTSTART;VALUE=DATE:20220829
DTEND;VALUE=DATE:20220902
DTSTAMP:20260424T171948
CREATED:20220420T185521Z
LAST-MODIFIED:20221211T231622Z
UID:3347-1661731200-1662076799@amind-numbing-sitename.triumphwedgeowners.org
SUMMARY:VTR 2022
DESCRIPTION:
URL:https://amind-numbing-sitename.triumphwedgeowners.org/event/vtr-2022/
LOCATION:Galena\, IL\, United States
END:VEVENT
BEGIN:VEVENT
DTSTART;VALUE=DATE:20220813
DTEND;VALUE=DATE:20220814
DTSTAMP:20260424T171948
CREATED:20220420T185340Z
LAST-MODIFIED:20221211T231622Z
UID:3343-1660348800-1660435199@amind-numbing-sitename.triumphwedgeowners.org
SUMMARY:34th Annual Indy British Motor Day
DESCRIPTION:Triumph featured marque
URL:https://amind-numbing-sitename.triumphwedgeowners.org/event/34th-annual-indy-british-motor-day/
LOCATION:Zionsville\, IN\, United States
END:VEVENT
BEGIN:VEVENT
DTSTART;VALUE=DATE:20220809
DTEND;VALUE=DATE:20220810
DTSTAMP:20260424T171948
CREATED:20220422T151332Z
LAST-MODIFIED:20221211T231622Z
UID:3444-1660003200-1660089599@amind-numbing-sitename.triumphwedgeowners.org
SUMMARY:British Motor Museum Gatherings
DESCRIPTION:
URL:https://amind-numbing-sitename.triumphwedgeowners.org/event/british-motor-museum-gatherings-4/
LOCATION:Gaydon\, Warwickshire\, United Kingdom
END:VEVENT
BEGIN:VEVENT
DTSTART;VALUE=DATE:20220806
DTEND;VALUE=DATE:20220807
DTSTAMP:20260424T171948
CREATED:20220420T185133Z
LAST-MODIFIED:20221211T231622Z
UID:3339-1659744000-1659830399@amind-numbing-sitename.triumphwedgeowners.org
SUMMARY:British Car Day
DESCRIPTION:
URL:https://amind-numbing-sitename.triumphwedgeowners.org/event/british-car-day/
LOCATION:Dayton\, OH\, United States
END:VEVENT
BEGIN:VEVENT
DTSTART;VALUE=DATE:20220723
DTEND;VALUE=DATE:20220724
DTSTAMP:20260424T171948
CREATED:20220420T184853Z
LAST-MODIFIED:20221211T231622Z
UID:3336-1658534400-1658620799@amind-numbing-sitename.triumphwedgeowners.org
SUMMARY:Western Washington All British Field Meet
DESCRIPTION:
URL:https://amind-numbing-sitename.triumphwedgeowners.org/event/western-washington-all-british-field-meet/
LOCATION:Kenmore\, WA United States
END:VEVENT
BEGIN:VEVENT
DTSTART;VALUE=DATE:20220723
DTEND;VALUE=DATE:20220724
DTSTAMP:20260424T171948
CREATED:20220420T184730Z
LAST-MODIFIED:20221211T231623Z
UID:3332-1658534400-1658620799@amind-numbing-sitename.triumphwedgeowners.org
SUMMARY:25th Show of Dreams
DESCRIPTION:
URL:https://amind-numbing-sitename.triumphwedgeowners.org/event/25th-show-of-dreams/
LOCATION:Hudson\, NH\, United States
END:VEVENT
BEGIN:VEVENT
DTSTART;VALUE=DATE:20220723
DTEND;VALUE=DATE:20220724
DTSTAMP:20260424T171948
CREATED:20220420T184609Z
LAST-MODIFIED:20221211T231623Z
UID:3329-1658534400-1658620799@amind-numbing-sitename.triumphwedgeowners.org
SUMMARY:41st Annual British Car Day at the PVGP
DESCRIPTION:
URL:https://amind-numbing-sitename.triumphwedgeowners.org/event/41st-annual-british-car-day-at-the-pvgp/
LOCATION:Pittsburgh\, PA\, United States
END:VEVENT
BEGIN:VEVENT
DTSTART;VALUE=DATE:20220717
DTEND;VALUE=DATE:20220718
DTSTAMP:20260424T171948
CREATED:20220422T153740Z
LAST-MODIFIED:20221211T231623Z
UID:3457-1658016000-1658102399@amind-numbing-sitename.triumphwedgeowners.org
SUMMARY:Brits-In-the-Park
DESCRIPTION:
URL:https://amind-numbing-sitename.triumphwedgeowners.org/event/brits-in-the-park/
LOCATION:Lindsay\, ON\, Canada
END:VEVENT
BEGIN:VEVENT
DTSTART;VALUE=DATE:20220716
DTEND;VALUE=DATE:20220717
DTSTAMP:20260424T171948
CREATED:20220420T184435Z
LAST-MODIFIED:20221211T231623Z
UID:3326-1657929600-1658015999@amind-numbing-sitename.triumphwedgeowners.org
SUMMARY:All British Car Day
DESCRIPTION:
URL:https://amind-numbing-sitename.triumphwedgeowners.org/event/all-british-car-day/
LOCATION:Ottawa\, ON\, Canada
END:VEVENT
BEGIN:VEVENT
DTSTART;VALUE=DATE:20220715
DTEND;VALUE=DATE:20220725
DTSTAMP:20260424T171948
CREATED:20220420T183832Z
LAST-MODIFIED:20221211T231651Z
UID:3320-1657843200-1658707199@amind-numbing-sitename.triumphwedgeowners.org
SUMMARY:Pittsburgh Vintage Grand Prix
DESCRIPTION:
URL:https://amind-numbing-sitename.triumphwedgeowners.org/event/pittsburgh-vintage-grand-prix/
LOCATION:Pittsburgh\, PA\, United States
END:VEVENT
BEGIN:VEVENT
DTSTART;VALUE=DATE:20220715
DTEND;VALUE=DATE:20220718
DTSTAMP:20260424T171948
CREATED:20220420T183640Z
LAST-MODIFIED:20221211T231651Z
UID:3317-1657843200-1658102399@amind-numbing-sitename.triumphwedgeowners.org
SUMMARY:Kastner Cup
DESCRIPTION:In conjunction with the PVGP Historic Pitt Race.
URL:https://amind-numbing-sitename.triumphwedgeowners.org/event/kastner-cup-in-conjunction-with-the-pvgp-historic-pitt-race/
LOCATION:Wampum\, PA\, United States
END:VEVENT
BEGIN:VEVENT
DTSTART;VALUE=DATE:20220712
DTEND;VALUE=DATE:20220713
DTSTAMP:20260424T171948
CREATED:20220422T151259Z
LAST-MODIFIED:20221211T231651Z
UID:3442-1657584000-1657670399@amind-numbing-sitename.triumphwedgeowners.org
SUMMARY:British Motor Museum Gatherings
DESCRIPTION:
URL:https://amind-numbing-sitename.triumphwedgeowners.org/event/british-motor-museum-gatherings-3/
LOCATION:Gaydon\, Warwickshire\, United Kingdom
END:VEVENT
BEGIN:VEVENT
DTSTART;VALUE=DATE:20220710
DTEND;VALUE=DATE:20220711
DTSTAMP:20260424T171948
CREATED:20220422T153214Z
LAST-MODIFIED:20221211T231651Z
UID:3454-1657411200-1657497599@amind-numbing-sitename.triumphwedgeowners.org
SUMMARY:BMC & Leyland Show
DESCRIPTION:
URL:https://amind-numbing-sitename.triumphwedgeowners.org/event/bmc-leyland-show/
LOCATION:Gaydon\, Warwickshire\, United Kingdom
END:VEVENT
BEGIN:VEVENT
DTSTART;VALUE=DATE:20220623
DTEND;VALUE=DATE:20220626
DTSTAMP:20260424T171948
CREATED:20220422T145045Z
LAST-MODIFIED:20221211T231651Z
UID:3430-1655942400-1656201599@amind-numbing-sitename.triumphwedgeowners.org
SUMMARY:Idaho British Car Club Summer Tour 2022
DESCRIPTION:
URL:https://amind-numbing-sitename.triumphwedgeowners.org/event/idaho-british-car-club-summer-tour-2022/
LOCATION:Twin Falls\, ID\, United States
END:VEVENT
BEGIN:VEVENT
DTSTART;VALUE=DATE:20220616
DTEND;VALUE=DATE:20220620
DTSTAMP:20260424T171948
CREATED:20220420T183432Z
LAST-MODIFIED:20221211T231651Z
UID:3313-1655337600-1655683199@amind-numbing-sitename.triumphwedgeowners.org
SUMMARY:VARAC Vintage Grand Prix
DESCRIPTION:
URL:https://amind-numbing-sitename.triumphwedgeowners.org/event/varac-vintage-grand-prix/
LOCATION:Bowmanville\, ON\, Canada
END:VEVENT
BEGIN:VEVENT
DTSTART;VALUE=DATE:20220614
DTEND;VALUE=DATE:20220615
DTSTAMP:20260424T171948
CREATED:20220422T151226Z
LAST-MODIFIED:20221211T231651Z
UID:3440-1655164800-1655251199@amind-numbing-sitename.triumphwedgeowners.org
SUMMARY:British Motor Museum Gatherings
DESCRIPTION:
URL:https://amind-numbing-sitename.triumphwedgeowners.org/event/british-motor-museum-gatherings-2/
LOCATION:Gaydon\, Warwickshire\, United Kingdom
END:VEVENT
BEGIN:VEVENT
DTSTART;VALUE=DATE:20220611
DTEND;VALUE=DATE:20220612
DTSTAMP:20260424T171948
CREATED:20220422T152026Z
LAST-MODIFIED:20221211T231651Z
UID:3450-1654905600-1654991999@amind-numbing-sitename.triumphwedgeowners.org
SUMMARY:London to Brighton Run
DESCRIPTION:
URL:https://amind-numbing-sitename.triumphwedgeowners.org/event/london-to-brighton-run/
LOCATION:Start: Plainfield\, IN\, United States
END:VEVENT
BEGIN:VEVENT
DTSTART;VALUE=DATE:20220611
DTEND;VALUE=DATE:20220612
DTSTAMP:20260424T171948
CREATED:20220420T183125Z
LAST-MODIFIED:20221211T231651Z
UID:3307-1654905600-1654991999@amind-numbing-sitename.triumphwedgeowners.org
SUMMARY:2022 All British Motoring Meeting
DESCRIPTION:
URL:https://amind-numbing-sitename.triumphwedgeowners.org/event/2022-all-british-motoring-meeting/
LOCATION:Edmonton\, AB\, Canada
END:VEVENT
BEGIN:VEVENT
DTSTART;VALUE=DATE:20220610
DTEND;VALUE=DATE:20220613
DTSTAMP:20260424T171948
CREATED:20220420T182930Z
LAST-MODIFIED:20221211T231651Z
UID:3304-1654819200-1655078399@amind-numbing-sitename.triumphwedgeowners.org
SUMMARY:Glenwood Springs Rallye
DESCRIPTION:
URL:https://amind-numbing-sitename.triumphwedgeowners.org/event/glenwood-springs-rallye/
LOCATION:Denver/Glenwood Springs\, CO\, United States
END:VEVENT
BEGIN:VEVENT
DTSTART;VALUE=DATE:20220604
DTEND;VALUE=DATE:20220605
DTSTAMP:20260424T171948
CREATED:20220505T140231Z
LAST-MODIFIED:20221211T231651Z
UID:3599-1654300800-1654387199@amind-numbing-sitename.triumphwedgeowners.org
SUMMARY:The Best Of British Car Show
DESCRIPTION:
URL:https://amind-numbing-sitename.triumphwedgeowners.org/event/the-best-of-british-car-show/
LOCATION:Berkhamsted\, Hertfordshire\, United Kingdom
END:VEVENT
END:VCALENDAR