BEGIN:VCALENDAR
VERSION:2.0
PRODID:-//Triumph Wedge Owners Association - ECPv6.15.17//NONSGML v1.0//EN
CALSCALE:GREGORIAN
METHOD:PUBLISH
X-ORIGINAL-URL:https://amind-numbing-sitename.triumphwedgeowners.org
X-WR-CALDESC:Events for Triumph Wedge Owners Association
REFRESH-INTERVAL;VALUE=DURATION:PT1H
X-Robots-Tag:noindex
X-PUBLISHED-TTL:PT1H
BEGIN:VTIMEZONE
TZID:America/Chicago
BEGIN:DAYLIGHT
TZOFFSETFROM:-0600
TZOFFSETTO:-0500
TZNAME:CDT
DTSTART:20210314T080000
END:DAYLIGHT
BEGIN:STANDARD
TZOFFSETFROM:-0500
TZOFFSETTO:-0600
TZNAME:CST
DTSTART:20211107T070000
END:STANDARD
BEGIN:DAYLIGHT
TZOFFSETFROM:-0600
TZOFFSETTO:-0500
TZNAME:CDT
DTSTART:20220313T080000
END:DAYLIGHT
BEGIN:STANDARD
TZOFFSETFROM:-0500
TZOFFSETTO:-0600
TZNAME:CST
DTSTART:20221106T070000
END:STANDARD
BEGIN:DAYLIGHT
TZOFFSETFROM:-0600
TZOFFSETTO:-0500
TZNAME:CDT
DTSTART:20230312T080000
END:DAYLIGHT
BEGIN:STANDARD
TZOFFSETFROM:-0500
TZOFFSETTO:-0600
TZNAME:CST
DTSTART:20231105T070000
END:STANDARD
BEGIN:DAYLIGHT
TZOFFSETFROM:-0600
TZOFFSETTO:-0500
TZNAME:CDT
DTSTART:20240310T080000
END:DAYLIGHT
BEGIN:STANDARD
TZOFFSETFROM:-0500
TZOFFSETTO:-0600
TZNAME:CST
DTSTART:20241103T070000
END:STANDARD
END:VTIMEZONE
BEGIN:VEVENT
DTSTART;VALUE=DATE:20230513
DTEND;VALUE=DATE:20230514
DTSTAMP:20260424T142349
CREATED:20230310T190308Z
LAST-MODIFIED:20230310T190308Z
UID:4901-1683936000-1684022399@amind-numbing-sitename.triumphwedgeowners.org
SUMMARY:SPRING TIME IN THE SMOKIES
DESCRIPTION:
URL:https://amind-numbing-sitename.triumphwedgeowners.org/event/spring-time-in-the-smokies/
LOCATION:Spring Time in the Smokies\, Tallye Ho Inn\, 8314 SR73\, Townsend\, Tennessee
END:VEVENT
BEGIN:VEVENT
DTSTART;VALUE=DATE:20230507
DTEND;VALUE=DATE:20230508
DTSTAMP:20260424T142349
CREATED:20230310T184821Z
LAST-MODIFIED:20230310T184821Z
UID:4894-1683417600-1683503999@amind-numbing-sitename.triumphwedgeowners.org
SUMMARY:GET THE DUST-OFF RALLYE
DESCRIPTION:
URL:https://amind-numbing-sitename.triumphwedgeowners.org/event/get-the-dust-off-rallye-2/
LOCATION:Get the Dust-Off Rallye\, DeJon Vineyard\, 5300 Hydes Rd\, Hydes\, Maryland
CATEGORIES:Contact
END:VEVENT
BEGIN:VEVENT
DTSTART;VALUE=DATE:20230507
DTEND;VALUE=DATE:20230508
DTSTAMP:20260424T142349
CREATED:20230214T134119Z
LAST-MODIFIED:20230214T134119Z
UID:4821-1683417600-1683503999@amind-numbing-sitename.triumphwedgeowners.org
SUMMARY:All British and European Car Day
DESCRIPTION:
URL:https://amind-numbing-sitename.triumphwedgeowners.org/event/all-british-and-european-car-day/
LOCATION:All British and European Car Day\, White Rock Lake Park\, Dallas\, TX\, United States
ORGANIZER;CN="Kip Motor Company":MAILTO:Abcde@kipmotor.com
END:VEVENT
BEGIN:VEVENT
DTSTART;VALUE=DATE:20230506
DTEND;VALUE=DATE:20230507
DTSTAMP:20260424T142349
CREATED:20230214T134426Z
LAST-MODIFIED:20230214T134426Z
UID:4825-1683331200-1683417599@amind-numbing-sitename.triumphwedgeowners.org
SUMMARY:LEWES BRITISH MOTOR CAR SHOW
DESCRIPTION:
URL:https://amind-numbing-sitename.triumphwedgeowners.org/event/lewes-british-motor-car-show-2/
LOCATION:Lewes British Motor Car Show\, Lewes\, DE\, United States
END:VEVENT
BEGIN:VEVENT
DTSTART;VALUE=DATE:20230430
DTEND;VALUE=DATE:20230501
DTSTAMP:20260424T142349
CREATED:20221213T151142Z
LAST-MODIFIED:20221213T151142Z
UID:4428-1682812800-1682899199@amind-numbing-sitename.triumphwedgeowners.org
SUMMARY:Britain on the Green
DESCRIPTION:
URL:https://amind-numbing-sitename.triumphwedgeowners.org/event/britain-on-the-green-2/
LOCATION:Britain on the Green\, Gunston Hall\, Lorton\, VA\, United States
END:VEVENT
BEGIN:VEVENT
DTSTART;VALUE=DATE:20230423
DTEND;VALUE=DATE:20230424
DTSTAMP:20260424T142349
CREATED:20230310T181222Z
LAST-MODIFIED:20230310T181222Z
UID:4880-1682208000-1682294399@amind-numbing-sitename.triumphwedgeowners.org
SUMMARY:Williamsburg British and European Car Show
DESCRIPTION:
URL:https://amind-numbing-sitename.triumphwedgeowners.org/event/williamsburg-british-and-european-car-show-2/
LOCATION:Williamsburg British and European Car Show\, Williamsburg\, Virginia
END:VEVENT
BEGIN:VEVENT
DTSTART;VALUE=DATE:20230422
DTEND;VALUE=DATE:20230423
DTSTAMP:20260424T142349
CREATED:20230310T181741Z
LAST-MODIFIED:20230310T181741Z
UID:4884-1682121600-1682207999@amind-numbing-sitename.triumphwedgeowners.org
SUMMARY:A DAY OF MOTORSPORTS
DESCRIPTION:
URL:https://amind-numbing-sitename.triumphwedgeowners.org/event/a-day-of-motorsports/
LOCATION:A Day of Motorsports\, Nelson Ledges Road Course\, Garretsville\, OH
END:VEVENT
BEGIN:VEVENT
DTSTART;VALUE=DATE:20230422
DTEND;VALUE=DATE:20230423
DTSTAMP:20260424T142349
CREATED:20230214T133628Z
LAST-MODIFIED:20230214T133628Z
UID:4817-1682121600-1682207999@amind-numbing-sitename.triumphwedgeowners.org
SUMMARY:40th TULIP RALLYE
DESCRIPTION:
URL:https://amind-numbing-sitename.triumphwedgeowners.org/event/40th-tulip-rallye/
LOCATION:40TH TULIP RALLYE\, Cascade Mall\, Burlington BC\, British Columbia\, Canada
END:VEVENT
BEGIN:VEVENT
DTSTART;VALUE=DATE:20230419
DTEND;VALUE=DATE:20230423
DTSTAMP:20260424T142349
CREATED:20230129T160318Z
LAST-MODIFIED:20230129T160318Z
UID:4722-1681862400-1682207999@amind-numbing-sitename.triumphwedgeowners.org
SUMMARY:VTR South Central Regionals
DESCRIPTION:
URL:https://amind-numbing-sitename.triumphwedgeowners.org/event/vtr-south-central-regionals/
LOCATION:VTR South Central Regionals
END:VEVENT
BEGIN:VEVENT
DTSTART;VALUE=DATE:20230414
DTEND;VALUE=DATE:20230417
DTSTAMP:20260424T142349
CREATED:20230129T161235Z
LAST-MODIFIED:20230129T161431Z
UID:4718-1681430400-1681689599@amind-numbing-sitename.triumphwedgeowners.org
SUMMARY:The Gathering
DESCRIPTION:
URL:https://amind-numbing-sitename.triumphwedgeowners.org/event/the-gathering-2/
LOCATION:The Gathering\, Dobson\, NC\, United States
END:VEVENT
BEGIN:VEVENT
DTSTART;TZID=America/Chicago:20230409T080000
DTEND;TZID=America/Chicago:20230409T170000
DTSTAMP:20260424T142349
CREATED:20230129T154937Z
LAST-MODIFIED:20230129T154937Z
UID:4713-1681027200-1681059600@amind-numbing-sitename.triumphwedgeowners.org
SUMMARY:Wheels Across the Pond
DESCRIPTION:
URL:https://amind-numbing-sitename.triumphwedgeowners.org/event/wheels-across-the-pond-2/
LOCATION:Wheels Across the Pond\, Carlin Park\, Juniper
END:VEVENT
BEGIN:VEVENT
DTSTART;TZID=America/Chicago:20230401T080000
DTEND;TZID=America/Chicago:20230401T170000
DTSTAMP:20260424T142349
CREATED:20230129T154228Z
LAST-MODIFIED:20230129T154228Z
UID:4709-1680336000-1680368400@amind-numbing-sitename.triumphwedgeowners.org
SUMMARY:38th Annual All British Car Show
DESCRIPTION:
URL:https://amind-numbing-sitename.triumphwedgeowners.org/event/38th-annual-all-british-car-show/
LOCATION:Warwickshire
END:VEVENT
BEGIN:VEVENT
DTSTART;TZID=America/Chicago:20230401T080000
DTEND;TZID=America/Chicago:20230401T170000
DTSTAMP:20260424T142349
CREATED:20221213T150203Z
LAST-MODIFIED:20221213T150203Z
UID:4424-1680336000-1680368400@amind-numbing-sitename.triumphwedgeowners.org
SUMMARY:Carolina British Classic XV
DESCRIPTION:
URL:https://amind-numbing-sitename.triumphwedgeowners.org/event/carolina-british-classic-xv/
LOCATION:Carolina British Classic XV\, Historic Columbia Speed Way\, Columbia\, SC\, United States
END:VEVENT
BEGIN:VEVENT
DTSTART;VALUE=DATE:20230305
DTEND;VALUE=DATE:20230306
DTSTAMP:20260424T142349
CREATED:20221213T145509Z
LAST-MODIFIED:20221213T145509Z
UID:4418-1677974400-1678060799@amind-numbing-sitename.triumphwedgeowners.org
SUMMARY:All British Day
DESCRIPTION:
URL:https://amind-numbing-sitename.triumphwedgeowners.org/event/all-british-day-2/
LOCATION:All Britsh Day\, Echunga\, Australia
END:VEVENT
BEGIN:VEVENT
DTSTART;VALUE=DATE:20230225
DTEND;VALUE=DATE:20230226
DTSTAMP:20260424T142349
CREATED:20230214T132320Z
LAST-MODIFIED:20230214T132320Z
UID:4804-1677283200-1677369599@amind-numbing-sitename.triumphwedgeowners.org
SUMMARY:Chili Cook Off
DESCRIPTION:
URL:https://amind-numbing-sitename.triumphwedgeowners.org/event/chili-cook-off/
LOCATION:Chili Cook Off\, Griots Garage\, Tacoma\, Washington\, United States
END:VEVENT
BEGIN:VEVENT
DTSTART;VALUE=DATE:20230219
DTEND;VALUE=DATE:20230220
DTSTAMP:20260424T142349
CREATED:20230214T133208Z
LAST-MODIFIED:20230214T133208Z
UID:4810-1676764800-1676851199@amind-numbing-sitename.triumphwedgeowners.org
SUMMARY:ALL BRITISH CAR SHOW
DESCRIPTION:
URL:https://amind-numbing-sitename.triumphwedgeowners.org/event/all-british-car-show-2/
LOCATION:ALL BRITISH CAR SHOW\, TRADE WINDS PARK\, COCONUT CREEK\, FL\, United States
END:VEVENT
BEGIN:VEVENT
DTSTART;VALUE=DATE:20230219
DTEND;VALUE=DATE:20230220
DTSTAMP:20260424T142349
CREATED:20221213T144018Z
LAST-MODIFIED:20221213T144018Z
UID:4412-1676764800-1676851199@amind-numbing-sitename.triumphwedgeowners.org
SUMMARY:All British Car Show
DESCRIPTION:
URL:https://amind-numbing-sitename.triumphwedgeowners.org/event/all-british-car-show/
LOCATION:All Britsh Car Show\, Trade Winds Park\, Coconut Creek\, FL\, United States
END:VEVENT
BEGIN:VEVENT
DTSTART;VALUE=DATE:20230212
DTEND;VALUE=DATE:20230213
DTSTAMP:20260424T142349
CREATED:20221213T141848Z
LAST-MODIFIED:20221213T141848Z
UID:4402-1676160000-1676246399@amind-numbing-sitename.triumphwedgeowners.org
SUMMARY:MG & Triumph Spares Day
DESCRIPTION:
URL:https://amind-numbing-sitename.triumphwedgeowners.org/event/mg-triumph-spares-day/
LOCATION:MG & Triumph Spares Day\, Stoneleigh Park\, War Wickshire\, United Kingdom
ORGANIZER;CN="Live Promotions UK":MAILTO:Lisa@livepromotions.co.uk
END:VEVENT
BEGIN:VEVENT
DTSTART;VALUE=DATE:20230211
DTEND;VALUE=DATE:20230227
DTSTAMP:20260424T142349
CREATED:20221213T141122Z
LAST-MODIFIED:20221213T141122Z
UID:4396-1676073600-1677455999@amind-numbing-sitename.triumphwedgeowners.org
SUMMARY:Best of Britain/A Study of Morris Garage Sports Cars
DESCRIPTION:
URL:https://amind-numbing-sitename.triumphwedgeowners.org/event/best-of-britain-a-study-of-morris-garage-sports-cars/
LOCATION:Best of Britain / A study of Morris Garage Sports Cars\, Simone Museum\, Philadelphia\, PA\, United States
END:VEVENT
BEGIN:VEVENT
DTSTART;TZID=America/Chicago:20230210T080000
DTEND;TZID=America/Chicago:20230212T170000
DTSTAMP:20260424T142349
CREATED:20221213T142522Z
LAST-MODIFIED:20221213T142522Z
UID:4408-1676016000-1676221200@amind-numbing-sitename.triumphwedgeowners.org
SUMMARY:Brits at the Beach
DESCRIPTION:
URL:https://amind-numbing-sitename.triumphwedgeowners.org/event/brits-at-the-beach-2/
LOCATION:Brits at the Beach\, Beach Road\, Whanganata\, Waikato\, New Zealand
END:VEVENT
BEGIN:VEVENT
DTSTART;VALUE=DATE:20230210
DTEND;VALUE=DATE:20230211
DTSTAMP:20260424T142349
CREATED:20221213T135946Z
LAST-MODIFIED:20221213T135946Z
UID:4390-1675987200-1676073599@amind-numbing-sitename.triumphwedgeowners.org
SUMMARY:Drive Your Triumph Day
DESCRIPTION:
URL:https://amind-numbing-sitename.triumphwedgeowners.org/event/drive-your-triumph-day/
LOCATION:Drive Your Triumph Day\, Worldwide
END:VEVENT
BEGIN:VEVENT
DTSTART;VALUE=DATE:20230205
DTEND;VALUE=DATE:20230206
DTSTAMP:20260424T142349
CREATED:20221227T143419Z
LAST-MODIFIED:20221227T143419Z
UID:4477-1675555200-1675641599@amind-numbing-sitename.triumphwedgeowners.org
SUMMARY:St. Petersburg Motor Classic
DESCRIPTION:
URL:https://amind-numbing-sitename.triumphwedgeowners.org/event/st-petersburg-motor-classic/
LOCATION:St. Petersburg Motor Classic\, South Struab Park\, St. Petersburg Florida\, FL\, United States
END:VEVENT
BEGIN:VEVENT
DTSTART;VALUE=DATE:20230101
DTEND;VALUE=DATE:20230102
DTSTAMP:20260424T142349
CREATED:20221212T183845Z
LAST-MODIFIED:20221212T183845Z
UID:4384-1672531200-1672617599@amind-numbing-sitename.triumphwedgeowners.org
SUMMARY:Hero’s Hectic Holiday Hangerover Hassle
DESCRIPTION:
URL:https://amind-numbing-sitename.triumphwedgeowners.org/event/heros-hectic-holiday-hangerover-hassle/
LOCATION:Hero’s Hectic Holiday Hangover Hassle\, Northerly Island\, Chicago\, IL\, United States
END:VEVENT
BEGIN:VEVENT
DTSTART;VALUE=DATE:20221014
DTEND;VALUE=DATE:20221015
DTSTAMP:20260424T142349
CREATED:20220422T151452Z
LAST-MODIFIED:20221211T231622Z
UID:3448-1665705600-1665791999@amind-numbing-sitename.triumphwedgeowners.org
SUMMARY:British Motor Museum Gatherings
DESCRIPTION:
URL:https://amind-numbing-sitename.triumphwedgeowners.org/event/british-motor-museum-gatherings-6/
LOCATION:Gaydon\, Warwickshire\, United Kingdom
END:VEVENT
BEGIN:VEVENT
DTSTART;VALUE=DATE:20221001
DTEND;VALUE=DATE:20221003
DTSTAMP:20260424T142349
CREATED:20220420T191147Z
LAST-MODIFIED:20221211T231622Z
UID:3381-1664582400-1664755199@amind-numbing-sitename.triumphwedgeowners.org
SUMMARY:DC Area British Reliability Run
DESCRIPTION:
URL:https://amind-numbing-sitename.triumphwedgeowners.org/event/dc-area-british-reliability-run/
LOCATION:Start: Middleburg\, VA\, United States
END:VEVENT
BEGIN:VEVENT
DTSTART;VALUE=DATE:20220918
DTEND;VALUE=DATE:20220924
DTSTAMP:20260424T142349
CREATED:20220420T190957Z
LAST-MODIFIED:20221211T231622Z
UID:3378-1663459200-1663977599@amind-numbing-sitename.triumphwedgeowners.org
SUMMARY:Put-in-Bay Vintage Races
DESCRIPTION:
URL:https://amind-numbing-sitename.triumphwedgeowners.org/event/put-in-bay-vintage-races/
LOCATION:Put-in-Bay\, OH\, United States
END:VEVENT
BEGIN:VEVENT
DTSTART;VALUE=DATE:20220915
DTEND;VALUE=DATE:20220919
DTSTAMP:20260424T142349
CREATED:20220420T190811Z
LAST-MODIFIED:20221211T231622Z
UID:3374-1663200000-1663545599@amind-numbing-sitename.triumphwedgeowners.org
SUMMARY:Southeast British Car Festival
DESCRIPTION:
URL:https://amind-numbing-sitename.triumphwedgeowners.org/event/southeast-british-car-festival/
LOCATION:Dillard\, GA\, United States
END:VEVENT
BEGIN:VEVENT
DTSTART;VALUE=DATE:20220913
DTEND;VALUE=DATE:20220914
DTSTAMP:20260424T142349
CREATED:20220422T151418Z
LAST-MODIFIED:20221211T231622Z
UID:3446-1663027200-1663113599@amind-numbing-sitename.triumphwedgeowners.org
SUMMARY:British Motor Museum Gatherings
DESCRIPTION:
URL:https://amind-numbing-sitename.triumphwedgeowners.org/event/british-motor-museum-gatherings-5/
LOCATION:Gaydon\, Warwickshire\, United Kingdom
END:VEVENT
BEGIN:VEVENT
DTSTART;VALUE=DATE:20220911
DTEND;VALUE=DATE:20220912
DTSTAMP:20260424T142349
CREATED:20220420T190643Z
LAST-MODIFIED:20221211T231622Z
UID:3370-1662854400-1662940799@amind-numbing-sitename.triumphwedgeowners.org
SUMMARY:All British Day
DESCRIPTION:
URL:https://amind-numbing-sitename.triumphwedgeowners.org/event/all-british-day/
LOCATION:North Parramatta\, NSW\, Australia
END:VEVENT
BEGIN:VEVENT
DTSTART;VALUE=DATE:20220911
DTEND;VALUE=DATE:20220912
DTSTAMP:20260424T142349
CREATED:20220420T190520Z
LAST-MODIFIED:20221211T231622Z
UID:3366-1662854400-1662940799@amind-numbing-sitename.triumphwedgeowners.org
SUMMARY:Aubrey Rose Foundation British Car Day
DESCRIPTION:
URL:https://amind-numbing-sitename.triumphwedgeowners.org/event/aubrey-rose-foundation-british-car-day/
LOCATION:Fairfield\, OH\, United States
END:VEVENT
END:VCALENDAR