BEGIN:VCALENDAR
VERSION:2.0
PRODID:-//Triumph Wedge Owners Association - ECPv6.15.17//NONSGML v1.0//EN
CALSCALE:GREGORIAN
METHOD:PUBLISH
X-ORIGINAL-URL:https://amind-numbing-sitename.triumphwedgeowners.org
X-WR-CALDESC:Events for Triumph Wedge Owners Association
REFRESH-INTERVAL;VALUE=DURATION:PT1H
X-Robots-Tag:noindex
X-PUBLISHED-TTL:PT1H
BEGIN:VTIMEZONE
TZID:America/Chicago
BEGIN:DAYLIGHT
TZOFFSETFROM:-0600
TZOFFSETTO:-0500
TZNAME:CDT
DTSTART:20220313T080000
END:DAYLIGHT
BEGIN:STANDARD
TZOFFSETFROM:-0500
TZOFFSETTO:-0600
TZNAME:CST
DTSTART:20221106T070000
END:STANDARD
BEGIN:DAYLIGHT
TZOFFSETFROM:-0600
TZOFFSETTO:-0500
TZNAME:CDT
DTSTART:20230312T080000
END:DAYLIGHT
BEGIN:STANDARD
TZOFFSETFROM:-0500
TZOFFSETTO:-0600
TZNAME:CST
DTSTART:20231105T070000
END:STANDARD
BEGIN:DAYLIGHT
TZOFFSETFROM:-0600
TZOFFSETTO:-0500
TZNAME:CDT
DTSTART:20240310T080000
END:DAYLIGHT
BEGIN:STANDARD
TZOFFSETFROM:-0500
TZOFFSETTO:-0600
TZNAME:CST
DTSTART:20241103T070000
END:STANDARD
END:VTIMEZONE
BEGIN:VEVENT
DTSTART;VALUE=DATE:20230604
DTEND;VALUE=DATE:20230605
DTSTAMP:20260424T171213
CREATED:20230214T134759Z
LAST-MODIFIED:20230312T162346Z
UID:4829-1685836800-1685923199@amind-numbing-sitename.triumphwedgeowners.org
SUMMARY:BRITISH BY THE SEA GATHERING
DESCRIPTION:
URL:https://amind-numbing-sitename.triumphwedgeowners.org/event/british-by-the-sea-gathering/
LOCATION:British By The Sea Gathering\, Harness Memorial State Park\, Waterford\, CT\, United States
CATEGORIES:Contact
END:VEVENT
BEGIN:VEVENT
DTSTART;VALUE=DATE:20230604
DTEND;VALUE=DATE:20230605
DTSTAMP:20260424T171213
CREATED:20220420T182803Z
LAST-MODIFIED:20230312T163135Z
UID:3301-1685836800-1685923199@amind-numbing-sitename.triumphwedgeowners.org
SUMMARY:The British Return to Fort Meigs
DESCRIPTION:
URL:https://amind-numbing-sitename.triumphwedgeowners.org/event/the-british-return-to-fort-meigs/
LOCATION:Perryburg\, PA\, United States
CATEGORIES:Contact
END:VEVENT
BEGIN:VEVENT
DTSTART;VALUE=DATE:20230507
DTEND;VALUE=DATE:20230508
DTSTAMP:20260424T171213
CREATED:20230310T184821Z
LAST-MODIFIED:20230310T184821Z
UID:4894-1683417600-1683503999@amind-numbing-sitename.triumphwedgeowners.org
SUMMARY:GET THE DUST-OFF RALLYE
DESCRIPTION:
URL:https://amind-numbing-sitename.triumphwedgeowners.org/event/get-the-dust-off-rallye-2/
LOCATION:Get the Dust-Off Rallye\, DeJon Vineyard\, 5300 Hydes Rd\, Hydes\, Maryland
CATEGORIES:Contact
END:VEVENT
END:VCALENDAR